Package: wppi Version: 1.8.0 Command: rm -rf wppi.buildbin-libdir && mkdir wppi.buildbin-libdir && F:\biocbuild\bbs-3.17-bioc\R\bin\R.exe CMD INSTALL --build --library=wppi.buildbin-libdir wppi_1.8.0.tar.gz StartedAt: 2023-10-16 09:43:05 -0400 (Mon, 16 Oct 2023) EndedAt: 2023-10-16 09:43:20 -0400 (Mon, 16 Oct 2023) EllapsedTime: 14.4 seconds RetCode: 0 Status: OK PackageFile: wppi_1.8.0.zip PackageFileSize: 301.8 KiB