Package: wpm Version: 1.10.0 Command: rm -rf wpm.buildbin-libdir && mkdir wpm.buildbin-libdir && F:\biocbuild\bbs-3.17-bioc\R\bin\R.exe CMD INSTALL --build --library=wpm.buildbin-libdir wpm_1.10.0.tar.gz StartedAt: 2023-10-16 09:42:58 -0400 (Mon, 16 Oct 2023) EndedAt: 2023-10-16 09:43:07 -0400 (Mon, 16 Oct 2023) EllapsedTime: 8.8 seconds RetCode: 0 Status: OK PackageFile: wpm_1.10.0.zip PackageFileSize: 1.806 MiB