Package: wpm Version: 1.10.0 Command: /Library/Frameworks/R.framework/Resources/bin/R CMD build --keep-empty-dirs --no-resave-data wpm StartedAt: 2023-10-15 22:08:19 -0400 (Sun, 15 Oct 2023) EndedAt: 2023-10-15 22:08:58 -0400 (Sun, 15 Oct 2023) EllapsedTime: 38.9 seconds RetCode: 0 Status: OK PackageFile: wpm_1.10.0.tar.gz PackageFileSize: 2.409 MiB