Package: wiggleplotr Version: 1.24.0 Command: F:\biocbuild\bbs-3.17-bioc\R\bin\R.exe CMD INSTALL wiggleplotr StartedAt: 2023-10-15 16:10:50 -0400 (Sun, 15 Oct 2023) EndedAt: 2023-10-15 16:10:57 -0400 (Sun, 15 Oct 2023) EllapsedTime: 7.3 seconds RetCode: 0 Status: OK