Package: wiggleplotr Version: 1.24.0 Command: /home/biocbuild/bbs-3.17-bioc/R/bin/R CMD build --keep-empty-dirs --no-resave-data wiggleplotr StartedAt: 2023-10-15 18:57:06 -0400 (Sun, 15 Oct 2023) EndedAt: 2023-10-15 18:57:45 -0400 (Sun, 15 Oct 2023) EllapsedTime: 39.7 seconds RetCode: 0 Status: OK PackageFile: wiggleplotr_1.24.0.tar.gz PackageFileSize: 299.9 KiB