Package: wiggleplotr Version: 1.24.0 Command: /Library/Frameworks/R.framework/Resources/bin/R CMD check --install=check:wiggleplotr.install-out.txt --library=/Library/Frameworks/R.framework/Resources/library --no-vignettes --timings wiggleplotr_1.24.0.tar.gz StartedAt: 2023-10-16 08:34:22 -0400 (Mon, 16 Oct 2023) EndedAt: 2023-10-16 08:37:20 -0400 (Mon, 16 Oct 2023) EllapsedTime: 177.6 seconds RetCode: 0 Status: OK CheckDir: wiggleplotr.Rcheck Warnings: 0