Package: wiggleplotr Version: 1.24.0 Command: /Library/Frameworks/R.framework/Resources/bin/R CMD build --keep-empty-dirs --no-resave-data wiggleplotr StartedAt: 2023-10-15 22:08:15 -0400 (Sun, 15 Oct 2023) EndedAt: 2023-10-15 22:09:44 -0400 (Sun, 15 Oct 2023) EllapsedTime: 89.8 seconds RetCode: 0 Status: OK PackageFile: wiggleplotr_1.24.0.tar.gz PackageFileSize: 314.3 KiB