Package: wiggleplotr Version: 1.24.0 Command: rm -rf wiggleplotr.buildbin-libdir && mkdir wiggleplotr.buildbin-libdir && /Users/biocbuild/BBS/utils/build-universal.sh wiggleplotr_1.24.0.tar.gz /Library/Frameworks/R.framework/Resources/bin/R wiggleplotr.buildbin-libdir StartedAt: 2023-10-16 10:25:05 -0400 (Mon, 16 Oct 2023) EndedAt: 2023-10-16 10:25:19 -0400 (Mon, 16 Oct 2023) EllapsedTime: 14.1 seconds RetCode: 0 Status: OK PackageFile: wiggleplotr_1.24.0.tgz PackageFileSize: 366.9 KiB