Package: widgetTools Version: 1.78.0 Command: rm -rf widgetTools.buildbin-libdir && mkdir widgetTools.buildbin-libdir && F:\biocbuild\bbs-3.17-bioc\R\bin\R.exe CMD INSTALL --build --library=widgetTools.buildbin-libdir widgetTools_1.78.0.tar.gz StartedAt: 2023-10-16 09:42:54 -0400 (Mon, 16 Oct 2023) EndedAt: 2023-10-16 09:43:09 -0400 (Mon, 16 Oct 2023) EllapsedTime: 14.9 seconds RetCode: 0 Status: OK PackageFile: widgetTools_1.78.0.zip PackageFileSize: 349.2 KiB