Package: widgetTools Version: 1.78.0 Command: /home/biocbuild/bbs-3.17-bioc/R/bin/R CMD check --install=check:widgetTools.install-out.txt --library=/home/biocbuild/bbs-3.17-bioc/R/site-library --timings widgetTools_1.78.0.tar.gz StartedAt: 2023-10-16 02:06:57 -0400 (Mon, 16 Oct 2023) EndedAt: 2023-10-16 02:07:17 -0400 (Mon, 16 Oct 2023) EllapsedTime: 20.7 seconds RetCode: 0 Status: OK CheckDir: widgetTools.Rcheck Warnings: 0