Package: widgetTools Version: 1.78.0 Command: /Library/Frameworks/R.framework/Resources/bin/R CMD check --install=check:widgetTools.install-out.txt --library=/Library/Frameworks/R.framework/Resources/library --no-vignettes --timings widgetTools_1.78.0.tar.gz StartedAt: 2023-10-16 08:34:21 -0400 (Mon, 16 Oct 2023) EndedAt: 2023-10-16 08:35:18 -0400 (Mon, 16 Oct 2023) EllapsedTime: 57.1 seconds RetCode: 0 Status: OK CheckDir: widgetTools.Rcheck Warnings: 0