Package: widgetTools Version: 1.78.0 Command: rm -rf widgetTools.buildbin-libdir && mkdir widgetTools.buildbin-libdir && /Users/biocbuild/BBS/utils/build-universal.sh widgetTools_1.78.0.tar.gz /Library/Frameworks/R.framework/Resources/bin/R widgetTools.buildbin-libdir StartedAt: 2023-10-16 10:25:05 -0400 (Mon, 16 Oct 2023) EndedAt: 2023-10-16 10:25:19 -0400 (Mon, 16 Oct 2023) EllapsedTime: 14.1 seconds RetCode: 0 Status: OK PackageFile: widgetTools_1.78.0.tgz PackageFileSize: 448.5 KiB