Package: webbioc Version: 1.72.0 Command: /home/biocbuild/bbs-3.17-bioc/R/bin/R CMD check --install=check:webbioc.install-out.txt --library=/home/biocbuild/bbs-3.17-bioc/R/site-library --timings webbioc_1.72.0.tar.gz StartedAt: 2023-10-16 02:06:37 -0400 (Mon, 16 Oct 2023) EndedAt: 2023-10-16 02:08:12 -0400 (Mon, 16 Oct 2023) EllapsedTime: 95.3 seconds RetCode: 0 Status: OK CheckDir: webbioc.Rcheck Warnings: 0