Package: webbioc Version: 1.72.0 Command: /Library/Frameworks/R.framework/Resources/bin/R CMD INSTALL webbioc StartedAt: 2023-10-15 16:06:57 -0400 (Sun, 15 Oct 2023) EndedAt: 2023-10-15 16:08:13 -0400 (Sun, 15 Oct 2023) EllapsedTime: 76.1 seconds RetCode: 0 Status: OK