Package: wavClusteR Version: 2.34.0 Command: chmod a+r wavClusteR -R && F:\biocbuild\bbs-3.17-bioc\R\bin\R.exe CMD build --keep-empty-dirs --no-resave-data wavClusteR StartedAt: 2023-10-15 23:05:51 -0400 (Sun, 15 Oct 2023) EndedAt: 2023-10-15 23:06:55 -0400 (Sun, 15 Oct 2023) EllapsedTime: 64.8 seconds RetCode: 0 Status: OK PackageFile: wavClusteR_2.34.0.tar.gz PackageFileSize: 470.5 KiB