Package: wavClusteR Version: 2.34.0 Command: /home/biocbuild/bbs-3.17-bioc/R/bin/R CMD INSTALL wavClusteR StartedAt: 2023-10-15 15:28:06 -0400 (Sun, 15 Oct 2023) EndedAt: 2023-10-15 15:28:43 -0400 (Sun, 15 Oct 2023) EllapsedTime: 37.0 seconds RetCode: 0 Status: OK