Package: wavClusteR Version: 2.34.0 Command: /Library/Frameworks/R.framework/Resources/bin/R CMD build --keep-empty-dirs --no-resave-data wavClusteR StartedAt: 2023-10-15 22:07:36 -0400 (Sun, 15 Oct 2023) EndedAt: 2023-10-15 22:09:58 -0400 (Sun, 15 Oct 2023) EllapsedTime: 142.1 seconds RetCode: 0 Status: OK PackageFile: wavClusteR_2.34.0.tar.gz PackageFileSize: 731.1 KiB