Package: wateRmelon Version: 2.6.0 Command: chmod a+r wateRmelon -R && F:\biocbuild\bbs-3.17-bioc\R\bin\R.exe CMD build --keep-empty-dirs --no-resave-data wateRmelon StartedAt: 2023-10-15 23:05:33 -0400 (Sun, 15 Oct 2023) EndedAt: 2023-10-15 23:07:13 -0400 (Sun, 15 Oct 2023) EllapsedTime: 99.8 seconds RetCode: 0 Status: OK PackageFile: wateRmelon_2.6.0.tar.gz PackageFileSize: 3.211 MiB