Package: wateRmelon Version: 2.6.0 Command: rm -rf wateRmelon.buildbin-libdir && mkdir wateRmelon.buildbin-libdir && F:\biocbuild\bbs-3.17-bioc\R\bin\R.exe CMD INSTALL --build --library=wateRmelon.buildbin-libdir wateRmelon_2.6.0.tar.gz StartedAt: 2023-10-16 09:42:46 -0400 (Mon, 16 Oct 2023) EndedAt: 2023-10-16 09:44:00 -0400 (Mon, 16 Oct 2023) EllapsedTime: 74.7 seconds RetCode: 0 Status: OK PackageFile: wateRmelon_2.6.0.zip PackageFileSize: 3.591 MiB