Package: wateRmelon Version: 2.6.0 Command: /home/biocbuild/bbs-3.17-bioc/R/bin/R CMD build --keep-empty-dirs --no-resave-data wateRmelon StartedAt: 2023-10-15 18:56:15 -0400 (Sun, 15 Oct 2023) EndedAt: 2023-10-15 18:57:47 -0400 (Sun, 15 Oct 2023) EllapsedTime: 91.9 seconds RetCode: 0 Status: OK PackageFile: wateRmelon_2.6.0.tar.gz PackageFileSize: 3.251 MiB