Package: waddR Version: 1.14.0 Command: F:\biocbuild\bbs-3.17-bioc\R\bin\R.exe CMD check --no-multiarch --install=check:waddR.install-out.txt --library=F:\biocbuild\bbs-3.17-bioc\R\library --no-vignettes --timings waddR_1.14.0.tar.gz StartedAt: 2023-10-16 08:03:40 -0400 (Mon, 16 Oct 2023) EndedAt: 2023-10-16 08:14:28 -0400 (Mon, 16 Oct 2023) EllapsedTime: 648.2 seconds RetCode: 1 Status: ERROR CheckDir: waddR.Rcheck Warnings: NA