Package: waddR Version: 1.14.0 Command: chmod a+r waddR -R && F:\biocbuild\bbs-3.17-bioc\R\bin\R.exe CMD build --keep-empty-dirs --no-resave-data waddR StartedAt: 2023-10-15 23:05:28 -0400 (Sun, 15 Oct 2023) EndedAt: 2023-10-15 23:08:59 -0400 (Sun, 15 Oct 2023) EllapsedTime: 210.5 seconds RetCode: 0 Status: OK PackageFile: waddR_1.14.0.tar.gz PackageFileSize: 151.6 KiB