Package: waddR Version: 1.14.0 Command: /home/biocbuild/bbs-3.17-bioc/R/bin/R CMD check --install=check:waddR.install-out.txt --library=/home/biocbuild/bbs-3.17-bioc/R/site-library --timings waddR_1.14.0.tar.gz StartedAt: 2023-10-16 02:05:27 -0400 (Mon, 16 Oct 2023) EndedAt: 2023-10-16 02:19:30 -0400 (Mon, 16 Oct 2023) EllapsedTime: 843.5 seconds RetCode: 0 Status: OK CheckDir: waddR.Rcheck Warnings: 0