Package: vulcan Version: 1.22.0 Command: F:\biocbuild\bbs-3.17-bioc\R\bin\R.exe CMD INSTALL vulcan StartedAt: 2023-10-15 16:45:30 -0400 (Sun, 15 Oct 2023) EndedAt: 2023-10-15 16:46:36 -0400 (Sun, 15 Oct 2023) EllapsedTime: 66.1 seconds RetCode: 0 Status: OK