Package: vulcan Version: 1.22.0 Command: chmod a+r vulcan -R && F:\biocbuild\bbs-3.17-bioc\R\bin\R.exe CMD build --keep-empty-dirs --no-resave-data vulcan StartedAt: 2023-10-15 23:05:09 -0400 (Sun, 15 Oct 2023) EndedAt: 2023-10-15 23:06:38 -0400 (Sun, 15 Oct 2023) EllapsedTime: 89.1 seconds RetCode: 0 Status: OK PackageFile: vulcan_1.22.0.tar.gz PackageFileSize: 254.5 KiB