Package: vulcan Version: 1.22.0 Command: /Library/Frameworks/R.framework/Resources/bin/R CMD INSTALL vulcan StartedAt: 2023-10-15 16:12:25 -0400 (Sun, 15 Oct 2023) EndedAt: 2023-10-15 16:15:20 -0400 (Sun, 15 Oct 2023) EllapsedTime: 174.6 seconds RetCode: 0 Status: OK