Package: vsn Version: 3.68.0 Command: /home/biocbuild/bbs-3.17-bioc/R/bin/R CMD check --install=check:vsn.install-out.txt --library=/home/biocbuild/bbs-3.17-bioc/R/site-library --timings vsn_3.68.0.tar.gz StartedAt: 2023-10-16 02:05:19 -0400 (Mon, 16 Oct 2023) EndedAt: 2023-10-16 02:06:43 -0400 (Mon, 16 Oct 2023) EllapsedTime: 84.3 seconds RetCode: 0 Status: OK CheckDir: vsn.Rcheck Warnings: 0