Package: vsclust Version: 1.2.0 Command: chmod a+r vsclust -R && F:\biocbuild\bbs-3.17-bioc\R\bin\R.exe CMD build --keep-empty-dirs --no-resave-data vsclust StartedAt: 2023-10-15 23:04:39 -0400 (Sun, 15 Oct 2023) EndedAt: 2023-10-15 23:07:09 -0400 (Sun, 15 Oct 2023) EllapsedTime: 149.9 seconds RetCode: 0 Status: OK PackageFile: vsclust_1.2.0.tar.gz PackageFileSize: 1.836 MiB