Package: vsclust Version: 1.2.0 Command: /home/biocbuild/bbs-3.17-bioc/R/bin/R CMD check --install=check:vsclust.install-out.txt --library=/home/biocbuild/bbs-3.17-bioc/R/site-library --timings vsclust_1.2.0.tar.gz StartedAt: 2023-10-16 02:05:15 -0400 (Mon, 16 Oct 2023) EndedAt: 2023-10-16 02:11:09 -0400 (Mon, 16 Oct 2023) EllapsedTime: 353.9 seconds RetCode: 0 Status: WARNINGS CheckDir: vsclust.Rcheck Warnings: 1