Package: vsclust Version: 1.2.0 Command: /home/biocbuild/bbs-3.17-bioc/R/bin/R CMD build --keep-empty-dirs --no-resave-data vsclust StartedAt: 2023-10-15 18:55:20 -0400 (Sun, 15 Oct 2023) EndedAt: 2023-10-15 18:57:16 -0400 (Sun, 15 Oct 2023) EllapsedTime: 115.7 seconds RetCode: 0 Status: OK PackageFile: vsclust_1.2.0.tar.gz PackageFileSize: 3.297 MiB