Package: vsclust Version: 1.2.0 Command: /Library/Frameworks/R.framework/Resources/bin/R CMD INSTALL vsclust StartedAt: 2023-10-15 15:45:36 -0400 (Sun, 15 Oct 2023) EndedAt: 2023-10-15 15:46:39 -0400 (Sun, 15 Oct 2023) EllapsedTime: 63.0 seconds RetCode: 1 Status: ERROR