Package: vsclust Version: 1.2.0 Command: rm -rf vsclust.buildbin-libdir && mkdir vsclust.buildbin-libdir && /Users/biocbuild/BBS/utils/build-universal.sh vsclust_1.2.0.tar.gz /Library/Frameworks/R.framework/Resources/bin/R vsclust.buildbin-libdir StartedAt: 2023-10-16 10:24:48 -0400 (Mon, 16 Oct 2023) EndedAt: 2023-10-16 10:26:35 -0400 (Mon, 16 Oct 2023) EllapsedTime: 107.1 seconds RetCode: 0 Status: OK PackageFile: vsclust_1.2.0.tgz PackageFileSize: 3.454 MiB