Package: viper Version: 1.34.0 Command: /Library/Frameworks/R.framework/Resources/bin/R CMD build --keep-empty-dirs --no-resave-data viper StartedAt: 2023-10-15 22:05:22 -0400 (Sun, 15 Oct 2023) EndedAt: 2023-10-15 22:13:18 -0400 (Sun, 15 Oct 2023) EllapsedTime: 476.0 seconds RetCode: 0 Status: OK PackageFile: viper_1.34.0.tar.gz PackageFileSize: 503.5 KiB