Package: vidger Version: 1.20.0 Command: F:\biocbuild\bbs-3.17-bioc\R\bin\R.exe CMD check --no-multiarch --install=check:vidger.install-out.txt --library=F:\biocbuild\bbs-3.17-bioc\R\library --no-vignettes --timings vidger_1.20.0.tar.gz StartedAt: 2023-10-16 08:00:46 -0400 (Mon, 16 Oct 2023) EndedAt: 2023-10-16 08:04:36 -0400 (Mon, 16 Oct 2023) EllapsedTime: 230.6 seconds RetCode: 0 Status: OK CheckDir: vidger.Rcheck Warnings: 0