Package: vidger Version: 1.20.0 Command: chmod a+r vidger -R && F:\biocbuild\bbs-3.17-bioc\R\bin\R.exe CMD build --keep-empty-dirs --no-resave-data vidger StartedAt: 2023-10-15 23:03:30 -0400 (Sun, 15 Oct 2023) EndedAt: 2023-10-15 23:05:32 -0400 (Sun, 15 Oct 2023) EllapsedTime: 122.3 seconds RetCode: 0 Status: OK PackageFile: vidger_1.20.0.tar.gz PackageFileSize: 5.233 MiB