Package: vidger Version: 1.20.0 Command: /home/biocbuild/bbs-3.17-bioc/R/bin/R CMD INSTALL vidger StartedAt: 2023-10-15 15:29:04 -0400 (Sun, 15 Oct 2023) EndedAt: 2023-10-15 15:29:36 -0400 (Sun, 15 Oct 2023) EllapsedTime: 31.8 seconds RetCode: 0 Status: OK