Package: vidger Version: 1.20.0 Command: /Library/Frameworks/R.framework/Resources/bin/R CMD INSTALL vidger StartedAt: 2023-10-15 15:48:19 -0400 (Sun, 15 Oct 2023) EndedAt: 2023-10-15 15:50:03 -0400 (Sun, 15 Oct 2023) EllapsedTime: 104.4 seconds RetCode: 0 Status: OK