Package: vidger Version: 1.20.0 Command: /Library/Frameworks/R.framework/Resources/bin/R CMD check --install=check:vidger.install-out.txt --library=/Library/Frameworks/R.framework/Resources/library --no-vignettes --timings vidger_1.20.0.tar.gz StartedAt: 2023-10-16 08:28:36 -0400 (Mon, 16 Oct 2023) EndedAt: 2023-10-16 08:38:31 -0400 (Mon, 16 Oct 2023) EllapsedTime: 595.1 seconds RetCode: 0 Status: OK CheckDir: vidger.Rcheck Warnings: 0