Package: vidger Version: 1.20.0 Command: /Library/Frameworks/R.framework/Resources/bin/R CMD build --keep-empty-dirs --no-resave-data vidger StartedAt: 2023-10-15 22:05:17 -0400 (Sun, 15 Oct 2023) EndedAt: 2023-10-15 22:09:27 -0400 (Sun, 15 Oct 2023) EllapsedTime: 250.1 seconds RetCode: 0 Status: OK PackageFile: vidger_1.20.0.tar.gz PackageFileSize: 7.041 MiB