Package: vidger Version: 1.20.0 Command: rm -rf vidger.buildbin-libdir && mkdir vidger.buildbin-libdir && /Users/biocbuild/BBS/utils/build-universal.sh vidger_1.20.0.tar.gz /Library/Frameworks/R.framework/Resources/bin/R vidger.buildbin-libdir StartedAt: 2023-10-16 10:24:31 -0400 (Mon, 16 Oct 2023) EndedAt: 2023-10-16 10:26:18 -0400 (Mon, 16 Oct 2023) EllapsedTime: 106.4 seconds RetCode: 0 Status: OK PackageFile: vidger_1.20.0.tgz PackageFileSize: 7.296 MiB