git_url: https://git.bioconductor.org/packages/velociraptor git_branch: RELEASE_3_17 git_last_commit: 4553f16 git_last_commit_date: 2023-04-25 11:23:04 -0400 (Tue, 25 Apr 2023) Package: velociraptor Version: 1.10.0 Maintainer: Kevin Rue-Albrecht MaintainerEmail: kevinrue67 at gmail.com