Package: variancePartition Version: 1.30.2 Command: F:\biocbuild\bbs-3.17-bioc\R\bin\R.exe CMD check --no-multiarch --install=check:variancePartition.install-out.txt --library=F:\biocbuild\bbs-3.17-bioc\R\library --no-vignettes --timings variancePartition_1.30.2.tar.gz StartedAt: 2023-10-16 07:56:10 -0400 (Mon, 16 Oct 2023) EndedAt: 2023-10-16 08:02:20 -0400 (Mon, 16 Oct 2023) EllapsedTime: 369.7 seconds RetCode: 0 Status: OK CheckDir: variancePartition.Rcheck Warnings: 0