Package: variancePartition Version: 1.30.2 Command: chmod a+r variancePartition -R && F:\biocbuild\bbs-3.17-bioc\R\bin\R.exe CMD build --keep-empty-dirs --no-resave-data variancePartition StartedAt: 2023-10-15 23:00:42 -0400 (Sun, 15 Oct 2023) EndedAt: 2023-10-15 23:12:58 -0400 (Sun, 15 Oct 2023) EllapsedTime: 736.0 seconds RetCode: 0 Status: OK PackageFile: variancePartition_1.30.2.tar.gz PackageFileSize: 3.53 MiB