Package: variancePartition Version: 1.30.2 Command: rm -rf variancePartition.buildbin-libdir && mkdir variancePartition.buildbin-libdir && F:\biocbuild\bbs-3.17-bioc\R\bin\R.exe CMD INSTALL --build --library=variancePartition.buildbin-libdir variancePartition_1.30.2.tar.gz StartedAt: 2023-10-16 09:41:48 -0400 (Mon, 16 Oct 2023) EndedAt: 2023-10-16 09:42:22 -0400 (Mon, 16 Oct 2023) EllapsedTime: 34.5 seconds RetCode: 0 Status: OK PackageFile: variancePartition_1.30.2.zip PackageFileSize: 3.896 MiB