Package: updateObject Version: 1.4.0 Command: chmod a+r updateObject -R && F:\biocbuild\bbs-3.17-bioc\R\bin\R.exe CMD build --keep-empty-dirs --no-resave-data updateObject StartedAt: 2023-10-15 23:00:09 -0400 (Sun, 15 Oct 2023) EndedAt: 2023-10-15 23:00:35 -0400 (Sun, 15 Oct 2023) EllapsedTime: 26.1 seconds RetCode: 0 Status: OK PackageFile: updateObject_1.4.0.tar.gz PackageFileSize: 1.29 MiB