Package: updateObject Version: 1.4.0 Command: /Library/Frameworks/R.framework/Resources/bin/R CMD INSTALL updateObject StartedAt: 2023-10-15 15:22:49 -0400 (Sun, 15 Oct 2023) EndedAt: 2023-10-15 15:23:07 -0400 (Sun, 15 Oct 2023) EllapsedTime: 17.8 seconds RetCode: 0 Status: OK