Package: updateObject Version: 1.4.0 Command: /Library/Frameworks/R.framework/Resources/bin/R CMD check --install=check:updateObject.install-out.txt --library=/Library/Frameworks/R.framework/Resources/library --no-vignettes --timings updateObject_1.4.0.tar.gz StartedAt: 2023-10-16 08:24:02 -0400 (Mon, 16 Oct 2023) EndedAt: 2023-10-16 08:26:14 -0400 (Mon, 16 Oct 2023) EllapsedTime: 132.2 seconds RetCode: 0 Status: OK CheckDir: updateObject.Rcheck Warnings: 0