Package: updateObject Version: 1.4.0 Command: /Library/Frameworks/R.framework/Resources/bin/R CMD build --keep-empty-dirs --no-resave-data updateObject StartedAt: 2023-10-15 22:02:29 -0400 (Sun, 15 Oct 2023) EndedAt: 2023-10-15 22:03:18 -0400 (Sun, 15 Oct 2023) EllapsedTime: 49.4 seconds RetCode: 0 Status: OK PackageFile: updateObject_1.4.0.tar.gz PackageFileSize: 1.29 MiB