Package: universalmotif Version: 1.18.1 Command: F:\biocbuild\bbs-3.17-bioc\R\bin\R.exe CMD check --no-multiarch --install=check:universalmotif.install-out.txt --library=F:\biocbuild\bbs-3.17-bioc\R\library --no-vignettes --timings universalmotif_1.18.1.tar.gz StartedAt: 2023-10-16 07:55:34 -0400 (Mon, 16 Oct 2023) EndedAt: 2023-10-16 07:58:48 -0400 (Mon, 16 Oct 2023) EllapsedTime: 194.5 seconds RetCode: 0 Status: OK CheckDir: universalmotif.Rcheck Warnings: 0