Package: universalmotif Version: 1.18.1 Command: chmod a+r universalmotif -R && F:\biocbuild\bbs-3.17-bioc\R\bin\R.exe CMD build --keep-empty-dirs --no-resave-data universalmotif StartedAt: 2023-10-15 22:59:54 -0400 (Sun, 15 Oct 2023) EndedAt: 2023-10-15 23:04:38 -0400 (Sun, 15 Oct 2023) EllapsedTime: 283.8 seconds RetCode: 0 Status: OK PackageFile: universalmotif_1.18.1.tar.gz PackageFileSize: 3.547 MiB